BEGIN:VCALENDAR
VERSION:2.0
PRODID:-//Keep an Eye Foundation - ECPv6.15.20//NONSGML v1.0//EN
CALSCALE:GREGORIAN
METHOD:PUBLISH
X-WR-CALNAME:Keep an Eye Foundation
X-ORIGINAL-URL:https://keepaneye.nl
X-WR-CALDESC:Evenementen voor Keep an Eye Foundation
REFRESH-INTERVAL;VALUE=DURATION:PT1H
X-Robots-Tag:noindex
X-PUBLISHED-TTL:PT1H
BEGIN:VTIMEZONE
TZID:Europe/Amsterdam
BEGIN:DAYLIGHT
TZOFFSETFROM:+0100
TZOFFSETTO:+0200
TZNAME:CEST
DTSTART:20250330T010000
END:DAYLIGHT
BEGIN:STANDARD
TZOFFSETFROM:+0200
TZOFFSETTO:+0100
TZNAME:CET
DTSTART:20251026T010000
END:STANDARD
BEGIN:DAYLIGHT
TZOFFSETFROM:+0100
TZOFFSETTO:+0200
TZNAME:CEST
DTSTART:20260329T010000
END:DAYLIGHT
BEGIN:STANDARD
TZOFFSETFROM:+0200
TZOFFSETTO:+0100
TZNAME:CET
DTSTART:20261025T010000
END:STANDARD
BEGIN:DAYLIGHT
TZOFFSETFROM:+0100
TZOFFSETTO:+0200
TZNAME:CEST
DTSTART:20270328T010000
END:DAYLIGHT
BEGIN:STANDARD
TZOFFSETFROM:+0200
TZOFFSETTO:+0100
TZNAME:CET
DTSTART:20271031T010000
END:STANDARD
END:VTIMEZONE
BEGIN:VEVENT
DTSTART;TZID=Europe/Amsterdam:20260215T150000
DTEND;TZID=Europe/Amsterdam:20260215T160000
DTSTAMP:20260421T180551
CREATED:20260106T114816Z
LAST-MODIFIED:20260106T114816Z
UID:13152-1771167600-1771171200@keepaneye.nl
SUMMARY:Rosa Spier Huis Concerten
DESCRIPTION:Gaat een kunstenaar ooit met pensioen? Het antwoord daarop is meestal nee. Een bijzondere plek waar kunstenaars wonen en werken is het Rosa Spier Huis. Een woon- en werkcentrum voor kunstenaars en wetenschappers. Zij wonen hier onder gelijkgestemden. Het Rosa Spier Huis biedt bewoners\, maar ook kunstenaars van buiten\, een podium om hun inspiratie te delen met het publiek. Jong en oud\, door kunst verbonden!\n\nDeze keer:\nTyler McCullough & Band\nGitarist en vocalist Tyler McCullough (22) laat u kennis maken met zijn gloednieuwe composities. Met zijn eindexamen aan het Utrechts Conservatorium achter zich\, begint hij aan een veelbelovende muzikale carrière. Een carrière waarin hij zijn ervaring als gitarist\, zanger\, componist\, arrangeur en bandleider verder uitbreidt. \nHier vind je meer informatie >
URL:https://keepaneye.nl/evenement/rosa-spier-huis-concerten-13/
LOCATION:Rosa Spier Huis\, Hector Treublaan 97\, Laren
CATEGORIES:Jazz
ATTACH;FMTTYPE=image/jpeg:https://keepaneye.nl/wp-content/uploads/2026/01/aa-tyl-1536x1025-1.jpg
ORGANIZER;CN="Rosa Spier Huis":MAILTO:info@rosaspierhuis.nl
END:VEVENT
END:VCALENDAR