BEGIN:VCALENDAR
VERSION:2.0
PRODID:-//Keep an Eye Foundation - ECPv6.15.20//NONSGML v1.0//EN
CALSCALE:GREGORIAN
METHOD:PUBLISH
X-WR-CALNAME:Keep an Eye Foundation
X-ORIGINAL-URL:https://keepaneye.nl
X-WR-CALDESC:Evenementen voor Keep an Eye Foundation
REFRESH-INTERVAL;VALUE=DURATION:PT1H
X-Robots-Tag:noindex
X-PUBLISHED-TTL:PT1H
BEGIN:VTIMEZONE
TZID:Europe/Amsterdam
BEGIN:DAYLIGHT
TZOFFSETFROM:+0100
TZOFFSETTO:+0200
TZNAME:CEST
DTSTART:20250330T010000
END:DAYLIGHT
BEGIN:STANDARD
TZOFFSETFROM:+0200
TZOFFSETTO:+0100
TZNAME:CET
DTSTART:20251026T010000
END:STANDARD
BEGIN:DAYLIGHT
TZOFFSETFROM:+0100
TZOFFSETTO:+0200
TZNAME:CEST
DTSTART:20260329T010000
END:DAYLIGHT
BEGIN:STANDARD
TZOFFSETFROM:+0200
TZOFFSETTO:+0100
TZNAME:CET
DTSTART:20261025T010000
END:STANDARD
BEGIN:DAYLIGHT
TZOFFSETFROM:+0100
TZOFFSETTO:+0200
TZNAME:CEST
DTSTART:20270328T010000
END:DAYLIGHT
BEGIN:STANDARD
TZOFFSETFROM:+0200
TZOFFSETTO:+0100
TZNAME:CET
DTSTART:20271031T010000
END:STANDARD
END:VTIMEZONE
BEGIN:VEVENT
DTSTART;TZID=Europe/Amsterdam:20260621T150000
DTEND;TZID=Europe/Amsterdam:20260621T170000
DTSTAMP:20260420T154706
CREATED:20260420T080735Z
LAST-MODIFIED:20260420T083327Z
UID:18108-1782054000-1782061200@keepaneye.nl
SUMMARY:Singer Jazzconcerten
DESCRIPTION:Net als de Keep an Eye Zomer Concertjes een succesvol initiatief: Keep an Eye organiseert samen met Singer Laren en het Conservatorium van Amsterdam maandelijks de Keep an Eye Jazz Concerten\, onder de titel Singer Swinging Sundays. Hierdoor krijgt jong aanstormend jazztalent met recht een ‘buitengewoon’ (zeker bij mooi weer) podium in een beroemd museum/theater! \nDeze maand:\nSwing Revival Trio\nHet SWING REVIVAL TRIO is ontstaan uit een gedeelde liefde voor de legendarische trio’s – zonder drums – van Oscar Peterson\, Nat King Cole en George Shearing. Het trio swingt moeiteloos door het Amerikaanse songbook en geeft een frisse kijk op klassieke nummers door middel van fantasierijke en avontuurlijke arrangementen. De optredens van het trio zijn energiek en swingend\, humoristisch\, vrolijk maar toch elegant. \nLees hier meer –>
URL:https://keepaneye.nl/evenement/singer-jazzconcerten-13/
LOCATION:Singer Laren\, Oude Drift 1\, Laren\, 1251 BS
CATEGORIES:Jazz
ATTACH;FMTTYPE=image/png:https://keepaneye.nl/wp-content/uploads/2026/04/Scherm­afbeelding-2026-04-20-om-10.05.34.png
ORGANIZER;CN="Singer Laren":MAILTO:museum@singerlaren.nl
END:VEVENT
END:VCALENDAR