BEGIN:VCALENDAR
VERSION:2.0
PRODID:-//Keep an Eye Foundation - ECPv6.15.20//NONSGML v1.0//EN
CALSCALE:GREGORIAN
METHOD:PUBLISH
X-WR-CALNAME:Keep an Eye Foundation
X-ORIGINAL-URL:https://keepaneye.nl
X-WR-CALDESC:Evenementen voor Keep an Eye Foundation
REFRESH-INTERVAL;VALUE=DURATION:PT1H
X-Robots-Tag:noindex
X-PUBLISHED-TTL:PT1H
BEGIN:VTIMEZONE
TZID:Europe/Amsterdam
BEGIN:DAYLIGHT
TZOFFSETFROM:+0100
TZOFFSETTO:+0200
TZNAME:CEST
DTSTART:20240331T010000
END:DAYLIGHT
BEGIN:STANDARD
TZOFFSETFROM:+0200
TZOFFSETTO:+0100
TZNAME:CET
DTSTART:20241027T010000
END:STANDARD
BEGIN:DAYLIGHT
TZOFFSETFROM:+0100
TZOFFSETTO:+0200
TZNAME:CEST
DTSTART:20250330T010000
END:DAYLIGHT
BEGIN:STANDARD
TZOFFSETFROM:+0200
TZOFFSETTO:+0100
TZNAME:CET
DTSTART:20251026T010000
END:STANDARD
BEGIN:DAYLIGHT
TZOFFSETFROM:+0100
TZOFFSETTO:+0200
TZNAME:CEST
DTSTART:20260329T010000
END:DAYLIGHT
BEGIN:STANDARD
TZOFFSETFROM:+0200
TZOFFSETTO:+0100
TZNAME:CET
DTSTART:20261025T010000
END:STANDARD
END:VTIMEZONE
BEGIN:VEVENT
DTSTART;TZID=Europe/Amsterdam:20251207T160000
DTEND;TZID=Europe/Amsterdam:20251207T170000
DTSTAMP:20260421T105436
CREATED:20250830T084824Z
LAST-MODIFIED:20250918T091324Z
UID:10541-1765123200-1765126800@keepaneye.nl
SUMMARY:Singer Jazzconcerten
DESCRIPTION:Net als de Keep an Eye Zomer Concertjes een succesvol initiatief: Keep an Eye organiseert samen met Singer Laren en het Conservatorium van Amsterdam maandelijks de Keep an Eye Jazz Concerten\, onder de titel Singer Swinging Sundays. Hierdoor krijgt jong aanstormend jazztalent met recht een ‘buitengewoon’ (zeker bij mooi weer) podium in een beroemd museum/theater! \nDeze maand:\nMarietta Arushanian Kwartet\nMarietta Arushanian is een jazz- en hedendaagse zangeres en masterstudente aan het Conservatorium van Amsterdam. Ze treedt regelmatig op tijdens concerten en diverse evenementen\, van intieme bijeenkomsten tot grotere feesten. Naast jazzstandards omvat haar repertoire ook pop en moderne muziek\, waardoor ze voor elke gelegenheid een boeiende en onvergetelijke sfeer weet te creëren. Met haar warme stem en passie voor optreden brengt Marietta zowel elegantie als energie op het podium. \nLees hier meer –>
URL:https://keepaneye.nl/evenement/singer-jazzconcerten-8/
LOCATION:Singer Laren\, Oude Drift 1\, Laren\, 1251 BS
CATEGORIES:Jazz
ATTACH;FMTTYPE=image/jpeg:https://keepaneye.nl/wp-content/uploads/2025/08/Marietta-A-scaled.jpeg
ORGANIZER;CN="Singer Laren":MAILTO:museum@singerlaren.nl
END:VEVENT
BEGIN:VEVENT
DTSTART;TZID=Europe/Amsterdam:20251211T200000
DTEND;TZID=Europe/Amsterdam:20251211T220000
DTSTAMP:20260421T105436
CREATED:20250910T115013Z
LAST-MODIFIED:20250917T083115Z
UID:10695-1765483200-1765490400@keepaneye.nl
SUMMARY:Jong Metropole viert 10 jaar met sprankelende najaarstournee!
DESCRIPTION:Jong Metropole – Najaarstournee 2025\nNa een prachtige zomertournee langs locaties als Caprera\, het Zuiderparktheater en Radio Kootwijk viert Jong Metropole dit najaar zijn 10-jarig jubileum met een feestelijke concertreeks in december. \nOp 11\, 12 en 14 december 2025 brengt het orkest samen met Lo van Gorp een ode aan de iconen van de jaren ’70 en ’80. Onder leiding van de jonge dirigent Sam Gale – protegé van Jules Buckley – krijgen klassiekers van Sting\, Steely Dan\, Paul Simon en vele anderen een frisse\, eigentijdse glans. \nLo van Gorp\, een van de meest gevraagde backing vocalisten van Nederland en een artiest met een indrukwekkende solocarrière\, geeft de muziek een onweerstaanbare vocale kracht. Samen met de virtuoze jonge musici van Jong Metropole ontstaat een meeslepende combinatie van herkenning\, emotie en vernieuwende energie. \nTien jaar Jong Metropole – een jubileumtournee vol tijdloze muziek die je niet wilt missen!
URL:https://keepaneye.nl/evenement/jong-metropole-en-lo-van-gorp/
LOCATION:TivoliVredenburg\, Vredenburgkade 11\, Utrecht\, 3511 WC
CATEGORIES:Jazz
ATTACH;FMTTYPE=image/jpeg:https://keepaneye.nl/wp-content/uploads/2025/09/Jong-Metropole-2024-20241115-NienkedeGrootA3477-CR3-scaled-1.jpg
END:VEVENT
BEGIN:VEVENT
DTSTART;TZID=Europe/Amsterdam:20251212T200000
DTEND;TZID=Europe/Amsterdam:20251212T220000
DTSTAMP:20260421T105436
CREATED:20250910T120604Z
LAST-MODIFIED:20250917T083338Z
UID:10697-1765569600-1765576800@keepaneye.nl
SUMMARY:Jong Metropole viert 10 jaar met sprankelende najaarstournee!
DESCRIPTION:Jong Metropole – Najaarstournee 2025\nNa een prachtige zomertournee langs locaties als Caprera\, het Zuiderparktheater en Radio Kootwijk viert Jong Metropole dit najaar zijn 10-jarig jubileum met een feestelijke concertreeks in december. \nOp 11\, 12 en 14 december 2025 brengt het orkest samen met Lo van Gorp een ode aan de iconen van de jaren ’70 en ’80. Onder leiding van de jonge dirigent Sam Gale – protegé van Jules Buckley – krijgen klassiekers van Sting\, Steely Dan\, Paul Simon en vele anderen een frisse\, eigentijdse glans. \nLo van Gorp\, een van de meest gevraagde backing vocalisten van Nederland en een artiest met een indrukwekkende solocarrière\, geeft de muziek een onweerstaanbare vocale kracht. Samen met de virtuoze jonge musici van Jong Metropole ontstaat een meeslepende combinatie van herkenning\, emotie en vernieuwende energie. \nTien jaar Jong Metropole – een jubileumtournee vol tijdloze muziek die je niet wilt missen!
URL:https://keepaneye.nl/evenement/jong-metropole-en-lo-van-gorp-2/
LOCATION:Schouwburg Concertzaal\, Louis Bouwmeesterplein 1\, Tilburg\, 5038 TN\, Netherlands
CATEGORIES:Jazz
ATTACH;FMTTYPE=image/jpeg:https://keepaneye.nl/wp-content/uploads/2025/09/Jong-Metropole-2024-20241115-NienkedeGrootA3477-CR3-scaled-1.jpg
END:VEVENT
BEGIN:VEVENT
DTSTART;TZID=Europe/Amsterdam:20251214T153000
DTEND;TZID=Europe/Amsterdam:20251214T173000
DTSTAMP:20260421T105436
CREATED:20250910T120717Z
LAST-MODIFIED:20250917T083540Z
UID:10699-1765726200-1765733400@keepaneye.nl
SUMMARY:Jong Metropole viert 10 jaar met sprankelende najaarstournee!
DESCRIPTION:Jong Metropole – Najaarstournee 2025\nNa een prachtige zomertournee langs locaties als Caprera\, het Zuiderparktheater en Radio Kootwijk viert Jong Metropole dit najaar zijn 10-jarig jubileum met een feestelijke concertreeks in december. \nOp 11\, 12 en 14 december 2025 brengt het orkest samen met Lo van Gorp een ode aan de iconen van de jaren ’70 en ’80. Onder leiding van de jonge dirigent Sam Gale – protegé van Jules Buckley – krijgen klassiekers van Sting\, Steely Dan\, Paul Simon en vele anderen een frisse\, eigentijdse glans. \nLo van Gorp\, een van de meest gevraagde backing vocalisten van Nederland en een artiest met een indrukwekkende solocarrière\, geeft de muziek een onweerstaanbare vocale kracht. Samen met de virtuoze jonge musici van Jong Metropole ontstaat een meeslepende combinatie van herkenning\, emotie en vernieuwende energie. \nTien jaar Jong Metropole – een jubileumtournee vol tijdloze muziek die je niet wilt missen!
URL:https://keepaneye.nl/evenement/jong-metropole-en-lo-van-gorp-3/
LOCATION:LantarenVenster\, Otto Reuchlinweg 996\, Rotterdam\, 3072 MD\, Netherlands
CATEGORIES:Jazz
ATTACH;FMTTYPE=image/jpeg:https://keepaneye.nl/wp-content/uploads/2025/09/Jong-Metropole-2024-20241115-NienkedeGrootA3477-CR3-scaled-1.jpg
END:VEVENT
BEGIN:VEVENT
DTSTART;TZID=Europe/Amsterdam:20251218T200000
DTEND;TZID=Europe/Amsterdam:20251218T210000
DTSTAMP:20260421T105436
CREATED:20250916T115552Z
LAST-MODIFIED:20250916T115552Z
UID:10827-1766088000-1766091600@keepaneye.nl
SUMMARY:Studio 150 sessions #65
DESCRIPTION:Deze voormalige kerk in Amsterdam Noord werd recent omgevormd tot een van de meest spraak- en geluidmakende opnamestudio’s van Nederland. En daarbuiten. Hier doet Keep an Eye in principe hetzelfde als bij andere concerten\, maar deze optredens worden live gestreamd via Facebook en Youtube. Gemiddeld rekenen wij op zo’n 4.000 luisteraars en kijkers. Deze concertjes worden maandelijks op de laatste donderdag uitgezonden. Jazz\, klassiek en bij wijze van pilot ook kleinkunst! \nDeze maand:   Idil Yunkuş – The Dam Jawn featuring Jeremy Pelt\nWil jij live aanwezig zijn bij dit concert? Stuur dan vóór 10 december een mailtje > \n 
URL:https://keepaneye.nl/evenement/studio-150-sessions-65/
LOCATION:Studio 150\, Zwanenplein 34\, Amsterdam\, 1021 CM\, Netherlands
CATEGORIES:Jazz
ATTACH;FMTTYPE=image/jpeg:https://keepaneye.nl/wp-content/uploads/2025/09/18-12-The-Dam-Jawn-ft.-Jeremy-Pelt-smal.jpg
END:VEVENT
END:VCALENDAR