BEGIN:VCALENDAR
VERSION:2.0
PRODID:-//Keep an Eye Foundation - ECPv6.15.20//NONSGML v1.0//EN
CALSCALE:GREGORIAN
METHOD:PUBLISH
X-WR-CALNAME:Keep an Eye Foundation
X-ORIGINAL-URL:https://keepaneye.nl
X-WR-CALDESC:Evenementen voor Keep an Eye Foundation
REFRESH-INTERVAL;VALUE=DURATION:PT1H
X-Robots-Tag:noindex
X-PUBLISHED-TTL:PT1H
BEGIN:VTIMEZONE
TZID:Europe/Amsterdam
BEGIN:DAYLIGHT
TZOFFSETFROM:+0100
TZOFFSETTO:+0200
TZNAME:CEST
DTSTART:20240331T010000
END:DAYLIGHT
BEGIN:STANDARD
TZOFFSETFROM:+0200
TZOFFSETTO:+0100
TZNAME:CET
DTSTART:20241027T010000
END:STANDARD
BEGIN:DAYLIGHT
TZOFFSETFROM:+0100
TZOFFSETTO:+0200
TZNAME:CEST
DTSTART:20250330T010000
END:DAYLIGHT
BEGIN:STANDARD
TZOFFSETFROM:+0200
TZOFFSETTO:+0100
TZNAME:CET
DTSTART:20251026T010000
END:STANDARD
BEGIN:DAYLIGHT
TZOFFSETFROM:+0100
TZOFFSETTO:+0200
TZNAME:CEST
DTSTART:20260329T010000
END:DAYLIGHT
BEGIN:STANDARD
TZOFFSETFROM:+0200
TZOFFSETTO:+0100
TZNAME:CET
DTSTART:20261025T010000
END:STANDARD
END:VTIMEZONE
BEGIN:VEVENT
DTSTART;TZID=Europe/Amsterdam:20251015T200000
DTEND;TZID=Europe/Amsterdam:20251015T200000
DTSTAMP:20260421T134557
CREATED:20240306T134034Z
LAST-MODIFIED:20250917T080058Z
UID:3597-1760558400-1760558400@keepaneye.nl
SUMMARY:Try-out podium BIES!
DESCRIPTION:Één keer per maand\, dit seizoen op de woensdagavond\, zie je in Klein Bellevue het allernieuwste materiaal van de fijnste cabaretiers en kleinkunstenaars. Van een naam die volle zalen trekt in De Klein Komedie\, tot aan een naam die net ontdekt is op een van de Nederlandse cabaretfestivals. Vier korte optredens\, een host die alle zenuwen in goede banen leidt en een open bar. Dé ingrediënten voor een topavond. De kaartjes gaan dan ook vaak als warme broodjes. \nDeze editie staan op de bühne: Rob Kamphues\, Violet Wernes\, Luuk Weggemans.\nPresentatie: Niek Barendsen.
URL:https://keepaneye.nl/evenement/try-out-podium-bies-2/
LOCATION:Theater Bellevue\, Leidsekade 90\, Amsterdam\, 1017 PN
CATEGORIES:Kleinkunst
ATTACH;FMTTYPE=image/jpeg:https://keepaneye.nl/wp-content/uploads/2024/12/BIESS.jpg
END:VEVENT
BEGIN:VEVENT
DTSTART;TZID=Europe/Amsterdam:20251030T200000
DTEND;TZID=Europe/Amsterdam:20251030T210000
DTSTAMP:20260421T134557
CREATED:20250916T115053Z
LAST-MODIFIED:20250916T115321Z
UID:10818-1761854400-1761858000@keepaneye.nl
SUMMARY:Studio 150 sessions #63
DESCRIPTION:Deze voormalige kerk in Amsterdam Noord werd recent omgevormd tot een van de meest spraak- en geluidmakende opnamestudio’s van Nederland. En daarbuiten. Hier doet Keep an Eye in principe hetzelfde als bij andere concerten\, maar deze optredens worden live gestreamd via Facebook en Youtube. Gemiddeld rekenen wij op zo’n 4.000 luisteraars en kijkers. Deze concertjes worden maandelijks op de laatste donderdag uitgezonden. Jazz\, klassiek en bij wijze van pilot ook kleinkunst! \nDeze maand:   Ivar van der Walle\nWil jij live aanwezig zijn bij dit concert? Stuur dan vóór 10 oktober een mailtje > \n 
URL:https://keepaneye.nl/evenement/studio-150-sessions-63/
LOCATION:Studio 150\, Zwanenplein 34\, Amsterdam\, 1021 CM\, Netherlands
CATEGORIES:Kleinkunst
ATTACH;FMTTYPE=image/jpeg:https://keepaneye.nl/wp-content/uploads/2025/09/30-10-Ivar-van-der-Walle-smal.jpg
END:VEVENT
END:VCALENDAR