BEGIN:VCALENDAR
VERSION:2.0
PRODID:-//Keep an Eye Foundation - ECPv6.15.20//NONSGML v1.0//EN
CALSCALE:GREGORIAN
METHOD:PUBLISH
X-ORIGINAL-URL:https://keepaneye.nl
X-WR-CALDESC:Evenementen voor Keep an Eye Foundation
REFRESH-INTERVAL;VALUE=DURATION:PT1H
X-Robots-Tag:noindex
X-PUBLISHED-TTL:PT1H
BEGIN:VTIMEZONE
TZID:Europe/Amsterdam
BEGIN:DAYLIGHT
TZOFFSETFROM:+0100
TZOFFSETTO:+0200
TZNAME:CEST
DTSTART:20250330T010000
END:DAYLIGHT
BEGIN:STANDARD
TZOFFSETFROM:+0200
TZOFFSETTO:+0100
TZNAME:CET
DTSTART:20251026T010000
END:STANDARD
BEGIN:DAYLIGHT
TZOFFSETFROM:+0100
TZOFFSETTO:+0200
TZNAME:CEST
DTSTART:20260329T010000
END:DAYLIGHT
BEGIN:STANDARD
TZOFFSETFROM:+0200
TZOFFSETTO:+0100
TZNAME:CET
DTSTART:20261025T010000
END:STANDARD
BEGIN:DAYLIGHT
TZOFFSETFROM:+0100
TZOFFSETTO:+0200
TZNAME:CEST
DTSTART:20270328T010000
END:DAYLIGHT
BEGIN:STANDARD
TZOFFSETFROM:+0200
TZOFFSETTO:+0100
TZNAME:CET
DTSTART:20271031T010000
END:STANDARD
END:VTIMEZONE
BEGIN:VEVENT
DTSTART;VALUE=DATE:20260313
DTEND;VALUE=DATE:20260323
DTSTAMP:20260421T200218
CREATED:20260127T063539Z
LAST-MODIFIED:20260127T063658Z
UID:13911-1773360000-1774223999@keepaneye.nl
SUMMARY:Kaboom Animation Festival
DESCRIPTION:Kaboom Animation Festival is de hemel op aarde voor alles en iedereen die een hart heeft voor animatiefilm. Van vlijmscherpe en überinventieve experimentele arthouse tot kleurrijke verhalen voor jong en oud; Kaboom serveert animatielekkernijen voor elk levend wezen. Zelfs voor de grootste weirdos onder ons!  \nIn 2026 zal Kaboom Animation Festival plaatsvinden van 13-22 maart in Utrecht\, Amsterdam en online!
URL:https://keepaneye.nl/evenement/kaboom-animation-festival/
LOCATION:Eye Filmmuseum\, IJpromenade 1\, Amsterdam\, 1031KT
CATEGORIES:Animatie
ATTACH;FMTTYPE=image/png:https://keepaneye.nl/wp-content/uploads/2026/01/Scherm­afbeelding-2026-01-27-om-07.35.37.png
END:VEVENT
END:VCALENDAR