BEGIN:VCALENDAR
VERSION:2.0
PRODID:-//Keep an Eye Foundation - ECPv6.15.20//NONSGML v1.0//EN
CALSCALE:GREGORIAN
METHOD:PUBLISH
X-ORIGINAL-URL:https://keepaneye.nl
X-WR-CALDESC:Evenementen voor Keep an Eye Foundation
REFRESH-INTERVAL;VALUE=DURATION:PT1H
X-Robots-Tag:noindex
X-PUBLISHED-TTL:PT1H
BEGIN:VTIMEZONE
TZID:Europe/Amsterdam
BEGIN:DAYLIGHT
TZOFFSETFROM:+0100
TZOFFSETTO:+0200
TZNAME:CEST
DTSTART:20250330T010000
END:DAYLIGHT
BEGIN:STANDARD
TZOFFSETFROM:+0200
TZOFFSETTO:+0100
TZNAME:CET
DTSTART:20251026T010000
END:STANDARD
BEGIN:DAYLIGHT
TZOFFSETFROM:+0100
TZOFFSETTO:+0200
TZNAME:CEST
DTSTART:20260329T010000
END:DAYLIGHT
BEGIN:STANDARD
TZOFFSETFROM:+0200
TZOFFSETTO:+0100
TZNAME:CET
DTSTART:20261025T010000
END:STANDARD
BEGIN:DAYLIGHT
TZOFFSETFROM:+0100
TZOFFSETTO:+0200
TZNAME:CEST
DTSTART:20270328T010000
END:DAYLIGHT
BEGIN:STANDARD
TZOFFSETFROM:+0200
TZOFFSETTO:+0100
TZNAME:CET
DTSTART:20271031T010000
END:STANDARD
END:VTIMEZONE
BEGIN:VEVENT
DTSTART;TZID=Europe/Amsterdam:20260301T150000
DTEND;TZID=Europe/Amsterdam:20260301T170000
DTSTAMP:20260421T174452
CREATED:20260106T120240Z
LAST-MODIFIED:20260106T120240Z
UID:13162-1772377200-1772384400@keepaneye.nl
SUMMARY:Rosa Spier Huis Concerten
DESCRIPTION:Gaat een kunstenaar ooit met pensioen? Het antwoord daarop is meestal nee. Een bijzondere plek waar kunstenaars wonen en werken is het Rosa Spier Huis. Een woon- en werkcentrum voor kunstenaars en wetenschappers. Zij wonen hier onder gelijkgestemden. Het Rosa Spier Huis biedt bewoners\, maar ook kunstenaars van buiten\, een podium om hun inspiratie te delen met het publiek. Jong en oud\, door kunst verbonden!\n\nDeze keer:\nRuben Drenth Trio\nTrompettist Ruben Drenth (1997) heeft een grote liefde voor de jaren 60 en dat hoor je terug in zijn muziek! Vandaag presenteert Ruben zijn debuut album “How To Gather Moss”. Dit album draait allemaal om zijn liefde voor The Rolling Stones én zijn liefde voor jazz. Samen met Mees Siderius en Jeroen Den Daas spelen ze zich een weg door nummers van Jagger/Richards zelf en door stukken hij schreef geïnspireerd op de Stones. \nHier vind je meer informatie >
URL:https://keepaneye.nl/evenement/rosa-spier-huis-concerten-14/
LOCATION:Rosa Spier Huis\, Hector Treublaan 97\, Laren
CATEGORIES:Jazz
ATTACH;FMTTYPE=image/png:https://keepaneye.nl/wp-content/uploads/2026/01/Scherm­afbeelding-2026-01-06-om-13.01.13.png
ORGANIZER;CN="Rosa Spier Huis":MAILTO:info@rosaspierhuis.nl
END:VEVENT
BEGIN:VEVENT
DTSTART;TZID=Europe/Amsterdam:20260308T160000
DTEND;TZID=Europe/Amsterdam:20260308T170000
DTSTAMP:20260421T174452
CREATED:20260106T115935Z
LAST-MODIFIED:20260106T115935Z
UID:13159-1772985600-1772989200@keepaneye.nl
SUMMARY:Singer Jazzconcerten
DESCRIPTION:Net als de Keep an Eye Zomer Concertjes een succesvol initiatief: Keep an Eye organiseert samen met Singer Laren en het Conservatorium van Amsterdam maandelijks de Keep an Eye Jazz Concerten\, onder de titel Singer Swinging Sundays. Hierdoor krijgt jong aanstormend jazztalent met recht een ‘buitengewoon’ (zeker bij mooi weer) podium in een beroemd museum/theater! \nDeze maand:\nKarlina Priedena\nKarlina Priedena is een opkomend artiest en multi-instrumentalist in de Europese muziekscene\, bekend om haar expressieve stem en instinctieve muzikaliteit. Met een diverse muzikale achtergrond uit haar thuisland Letland\, werkt ze nu aan haar artistieke carrière in Amsterdam. Naast haar optredens met haar alternatieve popproject brukle\, speelt ze ook fluit en treedt ze op in de jazz. \nLees hier meer –>
URL:https://keepaneye.nl/evenement/singer-jazzconcerten-10/
LOCATION:Singer Laren\, Oude Drift 1\, Laren\, 1251 BS
CATEGORIES:Jazz
ATTACH;FMTTYPE=image/png:https://keepaneye.nl/wp-content/uploads/2026/01/Scherm­afbeelding-2026-01-06-om-12.58.15.png
ORGANIZER;CN="Singer Laren":MAILTO:museum@singerlaren.nl
END:VEVENT
BEGIN:VEVENT
DTSTART;TZID=Europe/Amsterdam:20260322T150000
DTEND;TZID=Europe/Amsterdam:20260322T170000
DTSTAMP:20260421T174452
CREATED:20260127T070549Z
LAST-MODIFIED:20260127T070549Z
UID:13927-1774191600-1774198800@keepaneye.nl
SUMMARY:Rosa Spier Huis Concerten
DESCRIPTION:Gaat een kunstenaar ooit met pensioen? Het antwoord daarop is meestal nee. Een bijzondere plek waar kunstenaars wonen en werken is het Rosa Spier Huis. Een woon- en werkcentrum voor kunstenaars en wetenschappers. Zij wonen hier onder gelijkgestemden. Het Rosa Spier Huis biedt bewoners\, maar ook kunstenaars van buiten\, een podium om hun inspiratie te delen met het publiek. Jong en oud\, door kunst verbonden!\n\nDeze keer:\nKoningsacademie – Een Hommage aan de Lelijkheid\n‘De Hommage’ is al jarenlang een begrip op de academie. In het derde studiejaar bundelen studenten hun krachten en talenten om\, onder bevlogen leiding van Erik Vlasblom\, een thema of persoon te hommeren. Het levert keer op keer een avond vol muzikale kleinkunst op\, waarin de eigenheid van de studenten duidelijk doorklinkt. \nHier vind je meer informatie >
URL:https://keepaneye.nl/evenement/rosa-spier-huis-concerten-15/
LOCATION:Rosa Spier Huis\, Hector Treublaan 97\, Laren
CATEGORIES:Toneel
ATTACH;FMTTYPE=image/png:https://keepaneye.nl/wp-content/uploads/2026/01/Scherm­afbeelding-2026-01-27-om-08.03.21.png
ORGANIZER;CN="Rosa Spier Huis":MAILTO:info@rosaspierhuis.nl
END:VEVENT
BEGIN:VEVENT
DTSTART;TZID=Europe/Amsterdam:20260326T200000
DTEND;TZID=Europe/Amsterdam:20260326T213000
DTSTAMP:20260421T174452
CREATED:20260127T065421Z
LAST-MODIFIED:20260127T065504Z
UID:13922-1774555200-1774560600@keepaneye.nl
SUMMARY:Studio 150 sessions #68
DESCRIPTION:Deze voormalige kerk in Amsterdam Noord werd recent omgevormd tot een van de meest spraak- en geluidmakende opnamestudio’s van Nederland. En daarbuiten. Hier doet Keep an Eye in principe hetzelfde als bij andere concerten\, maar deze optredens worden live gestreamd via Facebook en Youtube. Gemiddeld rekenen wij op zo’n 4.000 luisteraars en kijkers. Deze concertjes worden maandelijks op de laatste donderdag uitgezonden. Jazz\, klassiek en ook kleinkunst! \nDeze maand:  Brioso Trio\nWil jij live aanwezig zijn bij dit concert? Stuur dan vóór 10 maart een mailtje >
URL:https://keepaneye.nl/evenement/studio-150-sessions-68/
LOCATION:Studio 150\, Zwanenplein 34\, Amsterdam\, 1021 CM\, Netherlands
CATEGORIES:Klassiek
ATTACH;FMTTYPE=image/png:https://keepaneye.nl/wp-content/uploads/2026/01/Scherm­afbeelding-2026-01-27-om-07.52.43.png
END:VEVENT
END:VCALENDAR