BEGIN:VCALENDAR
VERSION:2.0
PRODID:-//Keep an Eye Foundation - ECPv6.15.20//NONSGML v1.0//EN
CALSCALE:GREGORIAN
METHOD:PUBLISH
X-ORIGINAL-URL:https://keepaneye.nl
X-WR-CALDESC:Evenementen voor Keep an Eye Foundation
REFRESH-INTERVAL;VALUE=DURATION:PT1H
X-Robots-Tag:noindex
X-PUBLISHED-TTL:PT1H
BEGIN:VTIMEZONE
TZID:Europe/Amsterdam
BEGIN:DAYLIGHT
TZOFFSETFROM:+0100
TZOFFSETTO:+0200
TZNAME:CEST
DTSTART:20240331T010000
END:DAYLIGHT
BEGIN:STANDARD
TZOFFSETFROM:+0200
TZOFFSETTO:+0100
TZNAME:CET
DTSTART:20241027T010000
END:STANDARD
BEGIN:DAYLIGHT
TZOFFSETFROM:+0100
TZOFFSETTO:+0200
TZNAME:CEST
DTSTART:20250330T010000
END:DAYLIGHT
BEGIN:STANDARD
TZOFFSETFROM:+0200
TZOFFSETTO:+0100
TZNAME:CET
DTSTART:20251026T010000
END:STANDARD
BEGIN:DAYLIGHT
TZOFFSETFROM:+0100
TZOFFSETTO:+0200
TZNAME:CEST
DTSTART:20260329T010000
END:DAYLIGHT
BEGIN:STANDARD
TZOFFSETFROM:+0200
TZOFFSETTO:+0100
TZNAME:CET
DTSTART:20261025T010000
END:STANDARD
END:VTIMEZONE
BEGIN:VEVENT
DTSTART;TZID=Europe/Amsterdam:20250817T200000
DTEND;TZID=Europe/Amsterdam:20250817T210000
DTSTAMP:20260421T225350
CREATED:20250729T095824Z
LAST-MODIFIED:20250729T095824Z
UID:10288-1755460800-1755464400@keepaneye.nl
SUMMARY:Jazz Gems - Grachtenfestival
DESCRIPTION:We slaan de handen ineen met Het Grachtenfestival voor een spectaculaire serie concerten genaamd: ‘Jazz Gems’. In deze serie worden er vier “Gems” geselecteerd\, deze toptalenten van de hoogste plank krijgen volledige vrijheid om hun eigen programma samen te stellen. Verwacht nieuwe composities\, uitdagende samenwerkingen en spectaculaire locaties. Dit zijn de Jazz Gems! \n  \nDeze keer: Gijs Idema
URL:https://keepaneye.nl/evenement/jazz-gems-grachtenfestival/
LOCATION:Felix Meritis\, Keizersgracht 324\, Amsterdam
CATEGORIES:Jazz
ATTACH;FMTTYPE=image/png:https://keepaneye.nl/wp-content/uploads/2025/07/Grachtenfestival_Gijs1_1.png
END:VEVENT
BEGIN:VEVENT
DTSTART;TZID=Europe/Amsterdam:20250819T210000
DTEND;TZID=Europe/Amsterdam:20250819T220000
DTSTAMP:20260421T225350
CREATED:20250729T100154Z
LAST-MODIFIED:20250729T100154Z
UID:10293-1755637200-1755640800@keepaneye.nl
SUMMARY:Jazz Gems - Grachtenfestival
DESCRIPTION:We slaan de handen ineen met Het Grachtenfestival voor een spectaculaire serie concerten genaamd: ‘Jazz Gems’. In deze serie worden er vier “Gems” geselecteerd\, deze toptalenten van de hoogste plank krijgen volledige vrijheid om hun eigen programma samen te stellen. Verwacht nieuwe composities\, uitdagende samenwerkingen en spectaculaire locaties. Dit zijn de Jazz Gems! \n  \nDeze keer: Chieko Donker Duyvis
URL:https://keepaneye.nl/evenement/jazz-gems-grachtenfestival-2/
LOCATION:Artis Planetarium\, Plantage\, Amsterdam
CATEGORIES:Jazz
ATTACH;FMTTYPE=image/png:https://keepaneye.nl/wp-content/uploads/2025/07/Grachtenfestival_Chieko1_1_1.png
END:VEVENT
BEGIN:VEVENT
DTSTART;TZID=Europe/Amsterdam:20250822T210000
DTEND;TZID=Europe/Amsterdam:20250822T220000
DTSTAMP:20260421T225350
CREATED:20250729T111812Z
LAST-MODIFIED:20250729T111812Z
UID:10298-1755896400-1755900000@keepaneye.nl
SUMMARY:Jazz Gems - Grachtenfestival
DESCRIPTION:We slaan de handen ineen met Het Grachtenfestival voor een spectaculaire serie concerten genaamd: ‘Jazz Gems’. In deze serie worden er vier “Gems” geselecteerd\, deze toptalenten van de hoogste plank krijgen volledige vrijheid om hun eigen programma samen te stellen. Verwacht nieuwe composities\, uitdagende samenwerkingen en spectaculaire locaties. Dit zijn de Jazz Gems! \n  \nDeze keer: Sun-Mi Hong
URL:https://keepaneye.nl/evenement/jazz-gems-grachtenfestival-3/
LOCATION:Framer Framed\, Oranje Vrijstaatkade 71\, Amsterdam
CATEGORIES:Jazz
ATTACH;FMTTYPE=image/png:https://keepaneye.nl/wp-content/uploads/2025/07/Grachtenfestival_Sun2_1.png
END:VEVENT
BEGIN:VEVENT
DTSTART;TZID=Europe/Amsterdam:20250823T210000
DTEND;TZID=Europe/Amsterdam:20250823T220000
DTSTAMP:20260421T225350
CREATED:20250729T112118Z
LAST-MODIFIED:20250729T114451Z
UID:10302-1755982800-1755986400@keepaneye.nl
SUMMARY:Jazz Gems - Grachtenfestival
DESCRIPTION:We slaan de handen ineen met Het Grachtenfestival voor een spectaculaire serie concerten genaamd: ‘Jazz Gems’. In deze serie worden er vier “Gems” geselecteerd\, deze toptalenten van de hoogste plank krijgen volledige vrijheid om hun eigen programma samen te stellen. Verwacht nieuwe composities\, uitdagende samenwerkingen en spectaculaire locaties. Dit zijn de Jazz Gems! \n  \nDeze keer: Peter Somuah
URL:https://keepaneye.nl/evenement/jazz-gems-grachtenfestival-4/
LOCATION:TOBACCO Theater\, Nes 75-87\, Amsterdam
CATEGORIES:Jazz
ATTACH;FMTTYPE=image/png:https://keepaneye.nl/wp-content/uploads/2025/07/Grachtenfestival_Peter2_1.png
END:VEVENT
END:VCALENDAR