BEGIN:VCALENDAR
VERSION:2.0
PRODID:-//Keep an Eye Foundation - ECPv6.15.20//NONSGML v1.0//EN
CALSCALE:GREGORIAN
METHOD:PUBLISH
X-ORIGINAL-URL:https://keepaneye.nl
X-WR-CALDESC:Evenementen voor Keep an Eye Foundation
REFRESH-INTERVAL;VALUE=DURATION:PT1H
X-Robots-Tag:noindex
X-PUBLISHED-TTL:PT1H
BEGIN:VTIMEZONE
TZID:Europe/Amsterdam
BEGIN:DAYLIGHT
TZOFFSETFROM:+0100
TZOFFSETTO:+0200
TZNAME:CEST
DTSTART:20250330T010000
END:DAYLIGHT
BEGIN:STANDARD
TZOFFSETFROM:+0200
TZOFFSETTO:+0100
TZNAME:CET
DTSTART:20251026T010000
END:STANDARD
BEGIN:DAYLIGHT
TZOFFSETFROM:+0100
TZOFFSETTO:+0200
TZNAME:CEST
DTSTART:20260329T010000
END:DAYLIGHT
BEGIN:STANDARD
TZOFFSETFROM:+0200
TZOFFSETTO:+0100
TZNAME:CET
DTSTART:20261025T010000
END:STANDARD
BEGIN:DAYLIGHT
TZOFFSETFROM:+0100
TZOFFSETTO:+0200
TZNAME:CEST
DTSTART:20270328T010000
END:DAYLIGHT
BEGIN:STANDARD
TZOFFSETFROM:+0200
TZOFFSETTO:+0100
TZNAME:CET
DTSTART:20271031T010000
END:STANDARD
END:VTIMEZONE
BEGIN:VEVENT
DTSTART;TZID=Europe/Amsterdam:20260209T200000
DTEND;TZID=Europe/Amsterdam:20260209T223000
DTSTAMP:20260426T054615
CREATED:20250206T125350Z
LAST-MODIFIED:20260113T090337Z
UID:8145-1770667200-1770676200@keepaneye.nl
SUMMARY:AKF Masterclass Interpretatie Jenny Arean
DESCRIPTION:Inkijkje in het creatieve proces\nDe grande dame van de Nederlandse kleinkunst\, Jenny Arean\, deelt haar werkwijze en repertoire in een unieke\, eenmalige masterclass. Speciaal voor makers\, studenten en liefhebbers. Voor iedereen die wil begrijpen waarom een goed gezongen lied je kan raken tot op het bot. \nJenny Arean is ongeëvenaard in haar vermogen een lied tot leven te brengen. Met haar karakteristieke zeggingskracht\, muzikaliteit en feilloze gevoel voor timing en interpretatie\, laat zij zien hoe een nummer meer wordt dan woorden en noten alleen. \nHoe leest zij een tekst? Waar ligt het muzikale kantelpunt? Welke spelingang kiest ze en waar brengt ze het lied heen? Aan de hand van drie iconische liederen; Het is over\, Joodse vrouw en De begrafenis van Manke Nelis\, neemt zij het publiek stap voor stap mee in haar interpretatieproces. \nDe avond wordt geleid door Daniël van Veen\, artistiek directeur van het Amsterdams Kleinkunst Festival\, die Jenny Arean interviewt over haar vak\, haar keuzes en haar liefde voor het lied. In gesprek met haar én met het publiek. Pianist Bernd van den Bos verzorgt de muzikale begeleiding. \nStudenten hebben toegang voor een speciaal tarief van €5\,- per ticket. Zij kunnen contact opnemen met Anne van Zantwijk via anne@akf.nl. \nOver Jenny Arean\nJenny Arean (1942) behoort tot de meest geliefde en invloedrijke theaterpersoonlijkheden van Nederland. Sinds haar debuut begin jaren zestig bouwde zij een indrukwekkende carrière op als zangeres\, actrice en cabaretière. Ze werkte met grootheden als Frans Halsema\, Ischa Meijer en Annie M.G. Schmidt\, en verwierf faam door haar scherpe voordracht\, emotionele gelaagdheid en ongeëvenaarde tekstinterpretatie. Arean schitterde in talloze theaterprogramma’s\, musicals\, televisieseries en liedprogramma’s en ontving meerdere onderscheidingen voor haar werk. Met haar karakteristieke stem\, precisie en vakmanschap weet zij al decennialang publieksfavoriet én inspiratiebron te zijn voor nieuwe generaties makers. \nKeep an Eye Masterclasses\nSinds 2018 werkt het Amsterdams Kleinkunst Festival samen met de Keep an Eye Foundation in een serie masterclasses voor nieuw aanstormend talent. Tijdens deze intensieve masterclass serie worden de kleinkunsttalenten op zowel artistiek- als zakelijk vlak begeleid door professionals op hun weg naar de finale. \nLees hier alles over het Amsterdams Kleinkunst Festival > \n 
URL:https://keepaneye.nl/evenement/akf-masterclass-interpretatie-annick-boer/
LOCATION:Theater De Richel\, Nieuwezijds Voorburgwal 282\, Amsterdam\, Netherlands
CATEGORIES:Kleinkunst
ATTACH;FMTTYPE=image/webp:https://keepaneye.nl/wp-content/uploads/2025/02/Jenny-Arean.webp
ORGANIZER;CN="Amsterdams Kleinkunst Festival":MAILTO:info@akf.nl
END:VEVENT
END:VCALENDAR